BEGIN:VCALENDAR
VERSION:2.0
PRODID:-//Stacey H Lee - ECPv6.15.20//NONSGML v1.0//EN
CALSCALE:GREGORIAN
METHOD:PUBLISH
X-WR-CALNAME:Stacey H Lee
X-ORIGINAL-URL:https://www.staceyhlee.com
X-WR-CALDESC:Events for Stacey H Lee
REFRESH-INTERVAL;VALUE=DURATION:PT1H
X-Robots-Tag:noindex
X-PUBLISHED-TTL:PT1H
BEGIN:VTIMEZONE
TZID:America/Los_Angeles
BEGIN:DAYLIGHT
TZOFFSETFROM:-0800
TZOFFSETTO:-0700
TZNAME:PDT
DTSTART:20250309T100000
END:DAYLIGHT
BEGIN:STANDARD
TZOFFSETFROM:-0700
TZOFFSETTO:-0800
TZNAME:PST
DTSTART:20251102T090000
END:STANDARD
BEGIN:DAYLIGHT
TZOFFSETFROM:-0800
TZOFFSETTO:-0700
TZNAME:PDT
DTSTART:20260308T100000
END:DAYLIGHT
BEGIN:STANDARD
TZOFFSETFROM:-0700
TZOFFSETTO:-0800
TZNAME:PST
DTSTART:20261101T090000
END:STANDARD
BEGIN:DAYLIGHT
TZOFFSETFROM:-0800
TZOFFSETTO:-0700
TZNAME:PDT
DTSTART:20270314T100000
END:DAYLIGHT
BEGIN:STANDARD
TZOFFSETFROM:-0700
TZOFFSETTO:-0800
TZNAME:PST
DTSTART:20271107T090000
END:STANDARD
END:VTIMEZONE
BEGIN:VEVENT
DTSTART;VALUE=DATE:20260425
DTEND;VALUE=DATE:20260426
DTSTAMP:20260423T053703
CREATED:20260403T211823Z
LAST-MODIFIED:20260403T212644Z
UID:10000027-1777075200-1777161599@www.staceyhlee.com
SUMMARY:Yallwest
DESCRIPTION:YALLWEST is a young adult and middle grade book festival taking place in Santa Monica\, California on Sat April 25th. \nStacey’s schedule for the festival: \n\nPanel: Scream Queens and Detective Teens: How to Build a Mystery without Revealing Too Much\n\n12 Noon @ Greek Theatre\n\n\n\n\nBook Signing – 1 pm @ Innovation Quad\n\n\nPanel: The Name Game: Choosing a Title\, Character Names\, and Everything Else!\n\n2 pm @ Greek Theatre\n\n\n\n 
URL:https://www.staceyhlee.com/eventscalendar/yallwest
LOCATION:Santa Monica High School\, 601 Pico Blvd\, Santa Monica\, CA\, United States
CATEGORIES:Conference
ATTACH;FMTTYPE=image/png:https://www.staceyhlee.com/wp-content/uploads/2026/04/Yallwest2026-Stacey-Lee-e1775251083602.png
END:VEVENT
BEGIN:VEVENT
DTSTART;TZID=America/Los_Angeles:20260516T133000
DTEND;TZID=America/Los_Angeles:20260516T143000
DTSTAMP:20260423T053703
CREATED:20260403T214022Z
LAST-MODIFIED:20260403T214022Z
UID:10000028-1778938200-1778941800@www.staceyhlee.com
SUMMARY:AAPI Joy: AAPI Voices\, Then & Now
DESCRIPTION:Celebrate the diversity of Asian American\, Native Hawaiian\, and Pacific Islander communities in Los Angeles at AAPI Joy\, a free festival for all ages. Explore the City’s rich AAPI heritage and join us in forging a shared future of acceptance\, cooperation\, and inspiration with the greater Los Angeles community. \nStacey will be at the event speaking about her book Kill Her Twice – a gripping murder mystery set against the glittering yet shadowed backdrop of 1930s Los Angeles. But this isn’t merely a whodunit. It weaves together the tensions of Old Hollywood with the lived realities of Chinese American communities—exploring identity\, resilience\, and the quiet complexities of family. \nTime: 1:30 p.m. – 2:30 p.m.\nLocation: Teen’Scape
URL:https://www.staceyhlee.com/eventscalendar/aapi-joy-aapi-voices-then-now
LOCATION:Los Angeles Central Library\, 630 W. 5th Street\, Los Angeles\, 90071\, United States
CATEGORIES:Festival
ATTACH;FMTTYPE=image/jpeg:https://www.staceyhlee.com/wp-content/uploads/2026/04/AAPIJoy.jpg
END:VEVENT
END:VCALENDAR